BEGIN:VCALENDAR
VERSION:2.0
PRODID:-//eventon.com NONSGML v1.0//EN
CALSCALE:GREGORIAN
METHOD:PUBLISH
BEGIN:VEVENT
UID:69e9ef352a0c9
DTSTAMP:20260423T100645Z
DTSTART:20260530T010000Z
DTEND:20260531T090000Z
LOCATION:Movement Pilates Studio No. 178\,  Wen\,  Taiwan
SUMMARY:MULTI-JOINT SYNERGIES IN ALIGNMENT AND CO ORDINATION
DESCRIPTION:COURSE INTRODUCTION:  This module evaluates movement patterns 
 to help change muscle function associated to pain\,  pathology and compromi
 sed function.  This evaluation helps therapists towards establishing a mor
 e optimised movement system for their patients. The observation and analysi
 s of patterns of muscle synergies in functional tasks is examined and optio
 ns for[..]\nhttps://store.comeragroup.co.uk/events/multi-joint-synergies-in
 -alignment-and-co-ordination/
URL:https://store.comeragroup.co.uk/events/multi-joint-synergies-in-alignment-and-co-ordination/
END:VEVENT
END:VCALENDAR