BEGIN:VCALENDAR
VERSION:2.0
PRODID:-//eventon.com NONSGML v1.0//EN
CALSCALE:GREGORIAN
METHOD:PUBLISH
BEGIN:VEVENT
UID:69e5e4fa6a665
DTSTAMP:20260420T083402Z
DTSTART:20260420T040000Z
DTEND:20260421T120000Z
LOCATION:Primephysio Lahore https://maps.app.goo.gl/XC6oAvomdYcPYtiJ9
SUMMARY:Beyond Global Movement Control For Pain & Recurrence
DESCRIPTION:Part of our Muscle Synergies Series\,  this module is specifi
 cally designed to help clinicians deliver targeted movement retraining to s
 uccessfully manage each patient’s pain\,  pathology and compromised funct
 ion of the low back and hip.The course identifies how individuals can be id
 entified who will respond to local role synergist retraining\,  allowing fo
 r effective[..]\nhttps://store.comeragroup.co.uk/events/beyond-global-movem
 ent-control-for-pain-recurrence-4/
URL:https://store.comeragroup.co.uk/events/beyond-global-movement-control-for-pain-recurrence-4/
END:VEVENT
END:VCALENDAR